BEGIN:VCALENDAR
VERSION:2.0
PRODID:-//Dragoons Regiment - ECPv6.15.20//NONSGML v1.0//EN
CALSCALE:GREGORIAN
METHOD:PUBLISH
X-ORIGINAL-URL:https://dragoons.ca
X-WR-CALDESC:Events for Dragoons Regiment
REFRESH-INTERVAL;VALUE=DURATION:PT1H
X-Robots-Tag:noindex
X-PUBLISHED-TTL:PT1H
BEGIN:VTIMEZONE
TZID:America/Toronto
BEGIN:DAYLIGHT
TZOFFSETFROM:-0500
TZOFFSETTO:-0400
TZNAME:EDT
DTSTART:20220313T070000
END:DAYLIGHT
BEGIN:STANDARD
TZOFFSETFROM:-0400
TZOFFSETTO:-0500
TZNAME:EST
DTSTART:20221106T060000
END:STANDARD
BEGIN:DAYLIGHT
TZOFFSETFROM:-0500
TZOFFSETTO:-0400
TZNAME:EDT
DTSTART:20230312T070000
END:DAYLIGHT
BEGIN:STANDARD
TZOFFSETFROM:-0400
TZOFFSETTO:-0500
TZNAME:EST
DTSTART:20231105T060000
END:STANDARD
BEGIN:DAYLIGHT
TZOFFSETFROM:-0500
TZOFFSETTO:-0400
TZNAME:EDT
DTSTART:20240310T070000
END:DAYLIGHT
BEGIN:STANDARD
TZOFFSETFROM:-0400
TZOFFSETTO:-0500
TZNAME:EST
DTSTART:20241103T060000
END:STANDARD
END:VTIMEZONE
BEGIN:VEVENT
DTSTART;VALUE=DATE:20230330
DTEND;VALUE=DATE:20230402
DTSTAMP:20260424T012338
CREATED:20221128T162807Z
LAST-MODIFIED:20221128T162807Z
UID:33388-1680134400-1680393599@dragoons.ca
SUMMARY:CANCELLATION - RCAC IRONSIDES BONSPEIL - Kingston
DESCRIPTION:UPDATE 4 February 2023 \nGood day fellow Black Hats\,\nIt is with great disappointment that we must pass on this sad news from the organizing team. \nDue to circumstances beyond our control\, the planning and organizing of IRONSIDES 2023 must be stood down. \nWe will continue to plan this event for 2024 with the possibility of using an external facility if required.  For those that have sent registrations and paid\, the organizer (WO M.J. Richard) will refund you via e-transfer this week using the same email you provided on file. If you would prefer to have the money sent to a different email\, please let him know. \nOn behalf of the IRONSIDES 2023 committee\, apologies for the unpopular news. Until then\, please remember the other upcoming events for the Corps like the Henry Sampson Golf\, and the Corps BBQ. \nORIGINAL 28Nov 2022 \nThe RCAC is excited to announce the Itonsides is back for 2023 at the Garrison Kingston Curling Club !!!  Check out the news event page for all the details: \nMeet & Greet (& skips draw) 30 Mar 23 – 1900 hrs\, CFB Kingston WOs’ & SGTs’ Mess \nCurling and socializing: 31Mar and 1Apr – all day\, Garrison Golf & Curling Club \nBanquet 01 Apr – 1900 hrs\, Garrison Golf & Curling Club
URL:https://dragoons.ca/calendar/rcac-ironsides-bonspeil-kingston/
END:VEVENT
END:VCALENDAR