BEGIN:VCALENDAR
VERSION:2.0
PRODID:-//Dragoons Regiment - ECPv6.15.20//NONSGML v1.0//EN
CALSCALE:GREGORIAN
METHOD:PUBLISH
X-WR-CALNAME:Dragoons Regiment
X-ORIGINAL-URL:https://dragoons.ca
X-WR-CALDESC:Events for Dragoons Regiment
REFRESH-INTERVAL;VALUE=DURATION:PT1H
X-Robots-Tag:noindex
X-PUBLISHED-TTL:PT1H
BEGIN:VTIMEZONE
TZID:America/Toronto
BEGIN:DAYLIGHT
TZOFFSETFROM:-0500
TZOFFSETTO:-0400
TZNAME:EDT
DTSTART:20220313T070000
END:DAYLIGHT
BEGIN:STANDARD
TZOFFSETFROM:-0400
TZOFFSETTO:-0500
TZNAME:EST
DTSTART:20221106T060000
END:STANDARD
BEGIN:DAYLIGHT
TZOFFSETFROM:-0500
TZOFFSETTO:-0400
TZNAME:EDT
DTSTART:20230312T070000
END:DAYLIGHT
BEGIN:STANDARD
TZOFFSETFROM:-0400
TZOFFSETTO:-0500
TZNAME:EST
DTSTART:20231105T060000
END:STANDARD
BEGIN:DAYLIGHT
TZOFFSETFROM:-0500
TZOFFSETTO:-0400
TZNAME:EDT
DTSTART:20240310T070000
END:DAYLIGHT
BEGIN:STANDARD
TZOFFSETFROM:-0400
TZOFFSETTO:-0500
TZNAME:EST
DTSTART:20241103T060000
END:STANDARD
END:VTIMEZONE
BEGIN:VEVENT
DTSTART;TZID=America/Toronto:20230711T100000
DTEND;TZID=America/Toronto:20230711T130000
DTSTAMP:20260423T203214
CREATED:20230613T214818Z
LAST-MODIFIED:20230613T214818Z
UID:34162-1689069600-1689080400@dragoons.ca
SUMMARY:Karol Galas Funeral
DESCRIPTION:The celebration of life for Captain (Retd) Karol Galas will be held at Beechwood Cemetery 1000 hrs\, 11 July 2023.  A reception will follow the service; anyone staying for the reception is asked to RSVP at link below. \n\nDetails: Husband\, Father\, Grandfather And Captain Karol Anthony Galas’s Funeral Details | Ever Loved
URL:https://dragoons.ca/calendar/karol-galas-funeral/
END:VEVENT
END:VCALENDAR