BEGIN:VCALENDAR
VERSION:2.0
PRODID:-//Dragoons Regiment - ECPv6.15.20//NONSGML v1.0//EN
CALSCALE:GREGORIAN
METHOD:PUBLISH
X-ORIGINAL-URL:https://dragoons.ca
X-WR-CALDESC:Events for Dragoons Regiment
REFRESH-INTERVAL;VALUE=DURATION:PT1H
X-Robots-Tag:noindex
X-PUBLISHED-TTL:PT1H
BEGIN:VTIMEZONE
TZID:America/Toronto
BEGIN:DAYLIGHT
TZOFFSETFROM:-0500
TZOFFSETTO:-0400
TZNAME:EDT
DTSTART:20220313T070000
END:DAYLIGHT
BEGIN:STANDARD
TZOFFSETFROM:-0400
TZOFFSETTO:-0500
TZNAME:EST
DTSTART:20221106T060000
END:STANDARD
BEGIN:DAYLIGHT
TZOFFSETFROM:-0500
TZOFFSETTO:-0400
TZNAME:EDT
DTSTART:20230312T070000
END:DAYLIGHT
BEGIN:STANDARD
TZOFFSETFROM:-0400
TZOFFSETTO:-0500
TZNAME:EST
DTSTART:20231105T060000
END:STANDARD
BEGIN:DAYLIGHT
TZOFFSETFROM:-0500
TZOFFSETTO:-0400
TZNAME:EDT
DTSTART:20240310T070000
END:DAYLIGHT
BEGIN:STANDARD
TZOFFSETFROM:-0400
TZOFFSETTO:-0500
TZNAME:EST
DTSTART:20241103T060000
END:STANDARD
END:VTIMEZONE
BEGIN:VEVENT
DTSTART;TZID=America/Toronto:20230713T130000
DTEND;TZID=America/Toronto:20230713T170000
DTSTAMP:20260423T221602
CREATED:20230622T190907Z
LAST-MODIFIED:20230622T190907Z
UID:34207-1689253200-1689267600@dragoons.ca
SUMMARY:Celebration of Life - Trooper Don White
DESCRIPTION:Patron of the Regiment – Trooper Don White Dragoon_ \nhttps://dragoons.ca/a-great-dragoon-the-passing-of-tpr-don-white/
URL:https://dragoons.ca/calendar/celebration-of-life-trooper-don-white/
END:VEVENT
END:VCALENDAR