BEGIN:VCALENDAR
VERSION:2.0
PRODID:-//Dragoons Regiment - ECPv6.15.20//NONSGML v1.0//EN
CALSCALE:GREGORIAN
METHOD:PUBLISH
X-WR-CALNAME:Dragoons Regiment
X-ORIGINAL-URL:https://dragoons.ca
X-WR-CALDESC:Events for Dragoons Regiment
REFRESH-INTERVAL;VALUE=DURATION:PT1H
X-Robots-Tag:noindex
X-PUBLISHED-TTL:PT1H
BEGIN:VTIMEZONE
TZID:America/Toronto
BEGIN:DAYLIGHT
TZOFFSETFROM:-0500
TZOFFSETTO:-0400
TZNAME:EDT
DTSTART:20220313T070000
END:DAYLIGHT
BEGIN:STANDARD
TZOFFSETFROM:-0400
TZOFFSETTO:-0500
TZNAME:EST
DTSTART:20221106T060000
END:STANDARD
BEGIN:DAYLIGHT
TZOFFSETFROM:-0500
TZOFFSETTO:-0400
TZNAME:EDT
DTSTART:20230312T070000
END:DAYLIGHT
BEGIN:STANDARD
TZOFFSETFROM:-0400
TZOFFSETTO:-0500
TZNAME:EST
DTSTART:20231105T060000
END:STANDARD
BEGIN:DAYLIGHT
TZOFFSETFROM:-0500
TZOFFSETTO:-0400
TZNAME:EDT
DTSTART:20240310T070000
END:DAYLIGHT
BEGIN:STANDARD
TZOFFSETFROM:-0400
TZOFFSETTO:-0500
TZNAME:EST
DTSTART:20241103T060000
END:STANDARD
END:VTIMEZONE
BEGIN:VEVENT
DTSTART;VALUE=DATE:20230728
DTEND;VALUE=DATE:20230729
DTSTAMP:20260423T221246
CREATED:20230207T172155Z
LAST-MODIFIED:20230207T172155Z
UID:33823-1690502400-1690588799@dragoons.ca
SUMMARY:Henry Sampson Memorial Golf Tournament - Kingston
DESCRIPTION:SITREP 001 – 7 Feb 23\n\nMark your calendars for the 28th annual HSMGT\, which will occur on Friday\, 28th July 2023 at Garrison Golf & Curling Club (GGCC) Kingston.\n\nAs done in the past\, this wonderful event will see serving and retired members\, as well as families of the Royal Canadian Armoured Corps gather for a day of friendship\, camaraderie and golf\, all in Henry’s name\, with charitable funds raised for the Canadian Cancer Society\, with dinner following golf. The event remains a four person best ball scramble\, and you may either sign up individually\, with a full foursome\, and anywhere in between.\n\nThis is not a call for registrations; we won’t be looking for them until after the Victoria Day weekend.\n\nWe don’t expect prices to fluctuate from last year\, but will advise accordingly\, closer to the date. We will again seek the generosity of participants in donating items to the prize table\, but again\, will advise.\n\nBill & Chris
URL:https://dragoons.ca/calendar/henry-sampson-memorial-golf-tournament-kingston/
END:VEVENT
END:VCALENDAR