BEGIN:VCALENDAR
VERSION:2.0
PRODID:-//Dragoons Regiment - ECPv6.15.20//NONSGML v1.0//EN
CALSCALE:GREGORIAN
METHOD:PUBLISH
X-ORIGINAL-URL:https://dragoons.ca
X-WR-CALDESC:Events for Dragoons Regiment
REFRESH-INTERVAL;VALUE=DURATION:PT1H
X-Robots-Tag:noindex
X-PUBLISHED-TTL:PT1H
BEGIN:VTIMEZONE
TZID:America/Toronto
BEGIN:DAYLIGHT
TZOFFSETFROM:-0500
TZOFFSETTO:-0400
TZNAME:EDT
DTSTART:20220313T070000
END:DAYLIGHT
BEGIN:STANDARD
TZOFFSETFROM:-0400
TZOFFSETTO:-0500
TZNAME:EST
DTSTART:20221106T060000
END:STANDARD
BEGIN:DAYLIGHT
TZOFFSETFROM:-0500
TZOFFSETTO:-0400
TZNAME:EDT
DTSTART:20230312T070000
END:DAYLIGHT
BEGIN:STANDARD
TZOFFSETFROM:-0400
TZOFFSETTO:-0500
TZNAME:EST
DTSTART:20231105T060000
END:STANDARD
BEGIN:DAYLIGHT
TZOFFSETFROM:-0500
TZOFFSETTO:-0400
TZNAME:EDT
DTSTART:20240310T070000
END:DAYLIGHT
BEGIN:STANDARD
TZOFFSETFROM:-0400
TZOFFSETTO:-0500
TZNAME:EST
DTSTART:20241103T060000
END:STANDARD
END:VTIMEZONE
BEGIN:VEVENT
DTSTART;VALUE=DATE:20231104
DTEND;VALUE=DATE:20231105
DTSTAMP:20260423T234419
CREATED:20231002T105011Z
LAST-MODIFIED:20231002T105011Z
UID:34576-1699056000-1699142399@dragoons.ca
SUMMARY:Leliefontein 2023 Parade & Gala
DESCRIPTION:Hello Regimental Family \nThis event highlights the actual parade and the all-ranks gala taking place on Saturday\, 4 November \nIf interested in attending\, please RSVP using the this link or the QR code found on the invitation.  We look forward to seeing everyone there!! \nLeliefontein Gala and Parade 2023
URL:https://dragoons.ca/calendar/leleifontein-2023-parade-gala/
CATEGORIES:Celebrations
END:VEVENT
END:VCALENDAR