BEGIN:VCALENDAR
VERSION:2.0
PRODID:-//Dragoons Regiment - ECPv6.15.20//NONSGML v1.0//EN
CALSCALE:GREGORIAN
METHOD:PUBLISH
X-ORIGINAL-URL:https://dragoons.ca
X-WR-CALDESC:Events for Dragoons Regiment
REFRESH-INTERVAL;VALUE=DURATION:PT1H
X-Robots-Tag:noindex
X-PUBLISHED-TTL:PT1H
BEGIN:VTIMEZONE
TZID:UTC
BEGIN:STANDARD
TZOFFSETFROM:+0000
TZOFFSETTO:+0000
TZNAME:UTC
DTSTART:20240101T000000
END:STANDARD
END:VTIMEZONE
BEGIN:VEVENT
DTSTART;VALUE=DATE:20250320
DTEND;VALUE=DATE:20250321
DTSTAMP:20260425T221250
CREATED:20241204T183233Z
LAST-MODIFIED:20241204T183308Z
UID:37213-1742428800-1742515199@dragoons.ca
SUMMARY:Ironsides 2025
DESCRIPTION:As the Coordinator of Ironsides again this year\, I would like to extend to you and your teams an invitation to participate in the 2025 IRONSIDES Bonspiel to be held in the spring. All details may be found in the attached letter and registration form\, as well there is the Coles notes version below. Please pass on this information to your peers in case I have missed anyone in this email. Thanks in advance and any questions pls let me know. \nLocation: Gananoque Curling Club in Gananoque\, Ontario \nEvents: \n20 March 2025 Skips draw / Meet and Greet at CFB Kingston WO’s & Sgt’s Mess; \n21 / 22 March 2025 Curling will take place; and \n22 March 25 Banquet in the evening at the rink. \nCost: $240 per team \nDeadline to Register: 7 March 2025
URL:https://dragoons.ca/calendar/ironsides-2025/
ATTACH;FMTTYPE=image/jpeg:https://dragoons.ca/wp-content/uploads/2024/12/468797201_9295775570441239_1233431722747627772_n.jpg
END:VEVENT
END:VCALENDAR