BEGIN:VCALENDAR
VERSION:2.0
PRODID:-//Dragoons Regiment - ECPv6.15.20//NONSGML v1.0//EN
CALSCALE:GREGORIAN
METHOD:PUBLISH
X-ORIGINAL-URL:https://dragoons.ca
X-WR-CALDESC:Events for Dragoons Regiment
REFRESH-INTERVAL;VALUE=DURATION:PT1H
X-Robots-Tag:noindex
X-PUBLISHED-TTL:PT1H
BEGIN:VTIMEZONE
TZID:America/Toronto
BEGIN:DAYLIGHT
TZOFFSETFROM:-0500
TZOFFSETTO:-0400
TZNAME:EDT
DTSTART:20230312T070000
END:DAYLIGHT
BEGIN:STANDARD
TZOFFSETFROM:-0400
TZOFFSETTO:-0500
TZNAME:EST
DTSTART:20231105T060000
END:STANDARD
BEGIN:DAYLIGHT
TZOFFSETFROM:-0500
TZOFFSETTO:-0400
TZNAME:EDT
DTSTART:20240310T070000
END:DAYLIGHT
BEGIN:STANDARD
TZOFFSETFROM:-0400
TZOFFSETTO:-0500
TZNAME:EST
DTSTART:20241103T060000
END:STANDARD
BEGIN:DAYLIGHT
TZOFFSETFROM:-0500
TZOFFSETTO:-0400
TZNAME:EDT
DTSTART:20250309T070000
END:DAYLIGHT
BEGIN:STANDARD
TZOFFSETFROM:-0400
TZOFFSETTO:-0500
TZNAME:EST
DTSTART:20251102T060000
END:STANDARD
END:VTIMEZONE
BEGIN:VTIMEZONE
TZID:UTC
BEGIN:STANDARD
TZOFFSETFROM:+0000
TZOFFSETTO:+0000
TZNAME:UTC
DTSTART:20230101T000000
END:STANDARD
END:VTIMEZONE
BEGIN:VEVENT
DTSTART;TZID=America/Toronto:20240201T170000
DTEND;TZID=America/Toronto:20240201T190000
DTSTAMP:20260423T091533
CREATED:20240130T131514Z
LAST-MODIFIED:20240130T131514Z
UID:34774-1706806800-1706814000@dragoons.ca
SUMMARY:Karmin McKay Celebration of Life
DESCRIPTION:click on the link.
URL:https://dragoons.ca/calendar/karmin-mckay-celebration-of-life/
END:VEVENT
BEGIN:VEVENT
DTSTART;TZID=America/Toronto:20240310T110000
DTEND;TZID=America/Toronto:20240310T170000
DTSTAMP:20260423T091533
CREATED:20240306T153151Z
LAST-MODIFIED:20240306T153151Z
UID:34806-1710068400-1710090000@dragoons.ca
SUMMARY:Celebration of Life - Charlie Richer
DESCRIPTION:The Regimental Family will be supporting the ceremony and clebration of Life for Charlie in Oromocto\, NB. \nSee the announcement here: \n 
URL:https://dragoons.ca/calendar/celebration-of-life-charlie-richer/
END:VEVENT
BEGIN:VEVENT
DTSTART;TZID=America/Toronto:20240415T110000
DTEND;TZID=America/Toronto:20240415T130000
DTSTAMP:20260423T091533
CREATED:20240403T214509Z
LAST-MODIFIED:20240403T214509Z
UID:34849-1713178800-1713186000@dragoons.ca
SUMMARY:79th Anniversary of the Liberation of Leeuwarden
DESCRIPTION:https://dragoons.ca/79th-anniversary-of-the-liberation-of-leeuwarden/
URL:https://dragoons.ca/calendar/79th-anniversary-of-the-liberation-of-leeuwarden/
END:VEVENT
BEGIN:VEVENT
DTSTART;TZID=America/Toronto:20240504T140000
DTEND;TZID=America/Toronto:20240504T180000
DTSTAMP:20260423T091533
CREATED:20240421T115631Z
LAST-MODIFIED:20240421T115631Z
UID:34947-1714831200-1714845600@dragoons.ca
SUMMARY:DWD - Col Rob Marois
DESCRIPTION:https://dragoons.ca/depart-with-dignity-colonel-rob-marois/
URL:https://dragoons.ca/calendar/dwd-col-rob-marois/
END:VEVENT
BEGIN:VEVENT
DTSTART;TZID=America/Toronto:20240505T080000
DTEND;TZID=America/Toronto:20240505T170000
DTSTAMP:20260423T091533
CREATED:20240505T215108Z
LAST-MODIFIED:20240505T215108Z
UID:35009-1714896000-1714928400@dragoons.ca
SUMMARY:Celebration of Life - Dylan Stewart in Kingston
DESCRIPTION:https://dragoons.ca/regimental-family-condolences-to-kent-leslie-stewart/
URL:https://dragoons.ca/calendar/celebration-of-life-dylan-stewart-in-kingston/
CATEGORIES:Celebration of Life
END:VEVENT
BEGIN:VEVENT
DTSTART;VALUE=DATE:20240614
DTEND;VALUE=DATE:20240617
DTSTAMP:20260423T091533
CREATED:20230626T223904Z
LAST-MODIFIED:20230626T223904Z
UID:34240-1718323200-1718582399@dragoons.ca
SUMMARY:50th Anniversary of the Association
DESCRIPTION:5 May 2024: Update #3 – Final Call \n24 Feb 2024: Update #2 – Early Bird Special \n4 Jan 2024: Update #1 – Accommodations and Registration \nhttps://dragoons.ca/50th-anniversay-of-the-association/
URL:https://dragoons.ca/calendar/50th-anniversary-of-the-association/
CATEGORIES:Celebrations,Gatherings
END:VEVENT
BEGIN:VEVENT
DTSTART;TZID=America/Toronto:20240626T133000
DTEND;TZID=America/Toronto:20240626T170000
DTSTAMP:20260423T091533
CREATED:20240421T143216Z
LAST-MODIFIED:20240421T143216Z
UID:34933-1719408600-1719421200@dragoons.ca
SUMMARY:Regimental Change of Command and Appointment
DESCRIPTION:The Commanding Officer and all ranks of The Royal Canadian Dragoons are please to announce the Change of Commanding Officer \nConcurrently\, the Regimental will change appointment of the Colonel of The Regiment \nhttps://dragoons.ca/change-of-command-and-appointment-26-june-2024/
URL:https://dragoons.ca/calendar/regimental-change-of-command-and-appointment/
CATEGORIES:Celebrations,Gatherings
END:VEVENT
BEGIN:VEVENT
DTSTART;TZID=UTC:20241002T080000
DTEND;TZID=UTC:20241002T170000
DTSTAMP:20260423T091533
CREATED:20241004T145046Z
LAST-MODIFIED:20241004T145046Z
UID:36976-1727856000-1727888400@dragoons.ca
SUMMARY:Conversation South African War Memorial Windsor Rededication
DESCRIPTION:The Regimental Family was very proud to participate in the rededication Ceremony of the South African War Memorial in Windsor on 2 October. The Regiment provided a scarlet party and Tom Skelding had a speaking role\, all supported by our Windsor Chapter and the City of Windsor.  Thanks to all for your efforts in refurbishing the monument and an excellent ceremony.  If in Windsor\, you are encouraged to drop by this impressive place of remembrance.
URL:https://dragoons.ca/calendar/conversation-south-african-war-memorial-windsor-rededication/
CATEGORIES:Celebrations,Gatherings
ATTACH;FMTTYPE=image/jpeg:https://dragoons.ca/wp-content/uploads/2024/10/1900_LCol_Lessard_Lts_Young_and_Van_Straubenzie_South_Africa-1536x1029-1.jpg
END:VEVENT
BEGIN:VEVENT
DTSTART;TZID=UTC:20241221T133000
DTEND;TZID=UTC:20241221T170000
DTSTAMP:20260423T091533
CREATED:20241202T175550Z
LAST-MODIFIED:20241204T175702Z
UID:37209-1734787800-1734800400@dragoons.ca
SUMMARY:Get Together & A Yarn
DESCRIPTION:
URL:https://dragoons.ca/calendar/get-together-a-yarn/
ATTACH;FMTTYPE=image/jpeg:https://dragoons.ca/wp-content/uploads/2024/12/NL-Chapter-RCD-RCR-Bday.jpg
END:VEVENT
BEGIN:VEVENT
DTSTART;VALUE=DATE:20250320
DTEND;VALUE=DATE:20250321
DTSTAMP:20260423T091533
CREATED:20241204T183233Z
LAST-MODIFIED:20241204T183308Z
UID:37213-1742428800-1742515199@dragoons.ca
SUMMARY:Ironsides 2025
DESCRIPTION:As the Coordinator of Ironsides again this year\, I would like to extend to you and your teams an invitation to participate in the 2025 IRONSIDES Bonspiel to be held in the spring. All details may be found in the attached letter and registration form\, as well there is the Coles notes version below. Please pass on this information to your peers in case I have missed anyone in this email. Thanks in advance and any questions pls let me know. \nLocation: Gananoque Curling Club in Gananoque\, Ontario \nEvents: \n20 March 2025 Skips draw / Meet and Greet at CFB Kingston WO’s & Sgt’s Mess; \n21 / 22 March 2025 Curling will take place; and \n22 March 25 Banquet in the evening at the rink. \nCost: $240 per team \nDeadline to Register: 7 March 2025
URL:https://dragoons.ca/calendar/ironsides-2025/
ATTACH;FMTTYPE=image/jpeg:https://dragoons.ca/wp-content/uploads/2024/12/468797201_9295775570441239_1233431722747627772_n.jpg
END:VEVENT
BEGIN:VEVENT
DTSTART;TZID=UTC:20250415T110000
DTEND;TZID=UTC:20250415T153000
DTSTAMP:20260423T091533
CREATED:20250328T011527Z
LAST-MODIFIED:20250328T011527Z
UID:37509-1744714800-1744731000@dragoons.ca
SUMMARY:80th Anniversary of the Liberation of Leeuwarden
DESCRIPTION:
URL:https://dragoons.ca/calendar/80th-anniversary-of-the-liberation-of-leeuwarden/
LOCATION:Leeuwarden\, Base Community Centre\, CFB Petawawa\, ON\, K8H 2X3\, Canada
ORGANIZER;CN="CaptColinBond":MAILTO:colin.bond2@forces.gc.ca
END:VEVENT
BEGIN:VEVENT
DTSTART;VALUE=DATE:20250718
DTEND;VALUE=DATE:20250719
DTSTAMP:20260423T091533
CREATED:20250422T030755Z
LAST-MODIFIED:20250422T030755Z
UID:37588-1752796800-1752883199@dragoons.ca
SUMMARY:Henry Sampson Memorial Golf Tournament
DESCRIPTION:call for registrations in May so stay tuned
URL:https://dragoons.ca/calendar/henry-sampson-memorial-golf-tournament/
LOCATION:Garrison Golf & Curling Club (GGCC) CFB Kingston\, Kingston\, ON\, Canada
END:VEVENT
BEGIN:VEVENT
DTSTART;TZID=UTC:20250719T110000
DTEND;TZID=UTC:20250719T160000
DTSTAMP:20260423T091533
CREATED:20250422T031139Z
LAST-MODIFIED:20250422T031139Z
UID:37593-1752922800-1752940800@dragoons.ca
SUMMARY:Corps BBQ in Perth ON
DESCRIPTION:
URL:https://dragoons.ca/calendar/corps-bbq-in-perth-on/
LOCATION:Perth Legion\, PERTH\, ON\, Canada
CATEGORIES:Gatherings
END:VEVENT
BEGIN:VEVENT
DTSTART;TZID=UTC:20250907T113000
DTEND;TZID=UTC:20250907T190000
DTSTAMP:20260423T091533
CREATED:20250422T031955Z
LAST-MODIFIED:20250422T031955Z
UID:37597-1757244600-1757271600@dragoons.ca
SUMMARY:Spingbok Invitational - 7 Sep
DESCRIPTION:
URL:https://dragoons.ca/calendar/spingbok-invitational-7-sep/
LOCATION:Sand Point Golf Club\, 38 Golf Club Rd\, Braeside\, ON
CATEGORIES:Fundraising,Gatherings
END:VEVENT
BEGIN:VEVENT
DTSTART;TZID=UTC:20251105T180000
DTEND;TZID=UTC:20251105T203000
DTSTAMP:20260423T091533
CREATED:20251022T010504Z
LAST-MODIFIED:20251022T010504Z
UID:37984-1762365600-1762374600@dragoons.ca
SUMMARY:Guild Fundraiser
DESCRIPTION:https://www.canadahelps.org/en/charities/the-guild-of-the-royal-canadian-dragoons/events/fireside-chat-rick-hillier-and-steve-paikin/
URL:https://dragoons.ca/calendar/guild-fundraiser/
LOCATION:TD Tower Toronto\, Toronto\, ON\, Canada
END:VEVENT
BEGIN:VEVENT
DTSTART;TZID=UTC:20251108T110000
DTEND;TZID=UTC:20251108T170000
DTSTAMP:20260423T091533
CREATED:20250701T143256Z
LAST-MODIFIED:20250701T143256Z
UID:37722-1762599600-1762621200@dragoons.ca
SUMMARY:125th Anniversary - The Action at Leliefontein
DESCRIPTION:Save the Date!!
URL:https://dragoons.ca/calendar/125th-anniversary-the-action-at-leliefontein/
LOCATION:Worthington Parade Square\, 391 Menin Road\, PETAWAWA\, ON\, K8H 2X3\, Canada
CATEGORIES:Celebrations,Gatherings
ATTACH;FMTTYPE=image/jpeg:https://dragoons.ca/wp-content/uploads/2024/11/img.jpeg
END:VEVENT
BEGIN:VEVENT
DTSTART;TZID=UTC:20260314T080000
DTEND;TZID=UTC:20260314T170000
DTSTAMP:20260423T091533
CREATED:20260314T173007Z
LAST-MODIFIED:20260314T173007Z
UID:38257-1773475200-1773507600@dragoons.ca
SUMMARY:Save the Date - Regimental Change of Command
DESCRIPTION:Good Day\, \nOn behalf of the Commanding Officer\, LCol Summerfield\, please save the date for the upcoming Regimental Change of Command on 4 June 2026. \nFurther details will be forthcoming as planning evolves. \nBold and Swift \nRCD Events Team \nP-PET.RCD.Events@forces.gc.ca
URL:https://dragoons.ca/calendar/save-the-date-regimental-change-of-command/
ATTACH;FMTTYPE=image/png:https://dragoons.ca/wp-content/uploads/2026/03/Change-of-Command-2026-scaled.png
END:VEVENT
END:VCALENDAR