BEGIN:VCALENDAR
VERSION:2.0
PRODID:-//Dragoons Regiment - ECPv6.15.20//NONSGML v1.0//EN
CALSCALE:GREGORIAN
METHOD:PUBLISH
X-WR-CALNAME:Dragoons Regiment
X-ORIGINAL-URL:https://dragoons.ca
X-WR-CALDESC:Events for Dragoons Regiment
REFRESH-INTERVAL;VALUE=DURATION:PT1H
X-Robots-Tag:noindex
X-PUBLISHED-TTL:PT1H
BEGIN:VTIMEZONE
TZID:America/Toronto
BEGIN:DAYLIGHT
TZOFFSETFROM:-0500
TZOFFSETTO:-0400
TZNAME:EDT
DTSTART:20210314T070000
END:DAYLIGHT
BEGIN:STANDARD
TZOFFSETFROM:-0400
TZOFFSETTO:-0500
TZNAME:EST
DTSTART:20211107T060000
END:STANDARD
BEGIN:DAYLIGHT
TZOFFSETFROM:-0500
TZOFFSETTO:-0400
TZNAME:EDT
DTSTART:20220313T070000
END:DAYLIGHT
BEGIN:STANDARD
TZOFFSETFROM:-0400
TZOFFSETTO:-0500
TZNAME:EST
DTSTART:20221106T060000
END:STANDARD
BEGIN:DAYLIGHT
TZOFFSETFROM:-0500
TZOFFSETTO:-0400
TZNAME:EDT
DTSTART:20230312T070000
END:DAYLIGHT
BEGIN:STANDARD
TZOFFSETFROM:-0400
TZOFFSETTO:-0500
TZNAME:EST
DTSTART:20231105T060000
END:STANDARD
END:VTIMEZONE
BEGIN:VEVENT
DTSTART;VALUE=DATE:20221209
DTEND;VALUE=DATE:20221210
DTSTAMP:20260420T022559
CREATED:20220916T221412Z
LAST-MODIFIED:20220916T221412Z
UID:33241-1670544000-1670630399@dragoons.ca
SUMMARY:Presentation of The Royal Canadian Dragoons' Fifth Guidon
DESCRIPTION:The Regiment is proud to confirm the presentation of its fifth Guidon on 9 December 2022 at Garrison Petawawa by Her Excellency\, The Governor-General of Canada. \nThe current intent is to have a parade and reception in unit lines of The Regiment\, details will be confirmed as The Regiment coordinates with the GG’s staff.
URL:https://dragoons.ca/calendar/presentation-of-the-royal-canadian-dragoons-fifth-guidon/
END:VEVENT
BEGIN:VEVENT
DTSTART;TZID=America/Toronto:20221207T180000
DTEND;TZID=America/Toronto:20221207T233000
DTSTAMP:20260420T022559
CREATED:20221117T114331Z
LAST-MODIFIED:20221117T114331Z
UID:33340-1670436000-1670455800@dragoons.ca
SUMMARY:RSM's Sr. NCO Mixed Dining In
DESCRIPTION:
URL:https://dragoons.ca/calendar/rsms-sr-nco-mixed-dining-in/
END:VEVENT
BEGIN:VEVENT
DTSTART;TZID=America/Toronto:20221203T140000
DTEND;TZID=America/Toronto:20221203T170000
DTSTAMP:20260420T022559
CREATED:20221125T193401Z
LAST-MODIFIED:20221125T193401Z
UID:33368-1670076000-1670086800@dragoons.ca
SUMMARY:Ken Pichie Retirement
DESCRIPTION:We are excited to celebrate the retirement of Jim Pichie and hope the friends and comrades will extend a note!! \nThe Regimental Family wishes him the greatest joy and happpiness on this next stage of his life – a great Dragoon
URL:https://dragoons.ca/calendar/ken-pichie-retirement/
END:VEVENT
BEGIN:VEVENT
DTSTART;TZID=America/Toronto:20221124T113000
DTEND;TZID=America/Toronto:20221124T153000
DTSTAMP:20260420T022559
CREATED:20221122T141945Z
LAST-MODIFIED:20221122T141945Z
UID:33364-1669289400-1669303800@dragoons.ca
SUMMARY:Atlantic Chapter Monthly Luncheon
DESCRIPTION:The Atlantic Chapter of the Association will be hosting their monthly luncheon at Mingler’s Pub in Oromocto on 24 November. \nHope to see you there!!
URL:https://dragoons.ca/calendar/atlantic-chapter-monthly-luncheon/
END:VEVENT
BEGIN:VEVENT
DTSTART;VALUE=DATE:20221105
DTEND;VALUE=DATE:20221106
DTSTAMP:20260420T022559
CREATED:20220917T215831Z
LAST-MODIFIED:20220917T215831Z
UID:33245-1667606400-1667692799@dragoons.ca
SUMMARY:122nd Anniversary of the Action at Leliefontein
DESCRIPTION:The Regiment has been happy to announce that this year’s main Leliefontein celebration will take place over the period of 3-5 November at Garrison Petawawa.
URL:https://dragoons.ca/calendar/122nd-anniversary-of-the-action-at-leliefontein/
END:VEVENT
BEGIN:VEVENT
DTSTART;VALUE=DATE:20220805
DTEND;VALUE=DATE:20220807
DTSTAMP:20260420T022559
CREATED:20220316T144815Z
LAST-MODIFIED:20220316T144815Z
UID:32555-1659657600-1659830399@dragoons.ca
SUMMARY:Bennett Memorial Golf Tournament 2022
DESCRIPTION:
URL:https://dragoons.ca/calendar/test/
END:VEVENT
BEGIN:VEVENT
DTSTART;TZID=America/Toronto:20220723T113000
DTEND;TZID=America/Toronto:20220723T170000
DTSTAMP:20260420T022559
CREATED:20220418T205945Z
LAST-MODIFIED:20220418T205945Z
UID:32888-1658575800-1658595600@dragoons.ca
SUMMARY:RCAC BBQ
DESCRIPTION:
URL:https://dragoons.ca/calendar/rcac-bbq/
END:VEVENT
BEGIN:VEVENT
DTSTART;VALUE=DATE:20220722
DTEND;VALUE=DATE:20220723
DTSTAMP:20260420T022559
CREATED:20220318T142541Z
LAST-MODIFIED:20220318T142541Z
UID:32605-1658448000-1658534399@dragoons.ca
SUMMARY:The Henry Sampson Memorial  Golf Tournament (HSMGT) 2022
DESCRIPTION:
URL:https://dragoons.ca/calendar/the-henry-sampson-memorial-golf-tournament-hsmgt-2022/
END:VEVENT
BEGIN:VEVENT
DTSTART;TZID=America/Toronto:20220628T080000
DTEND;TZID=America/Toronto:20220628T170000
DTSTAMP:20260420T022559
CREATED:20220326T002140Z
LAST-MODIFIED:20220326T002140Z
UID:32673-1656403200-1656435600@dragoons.ca
SUMMARY:Change of Command
DESCRIPTION:Time TBA
URL:https://dragoons.ca/calendar/change-of-command/
END:VEVENT
BEGIN:VEVENT
DTSTART;VALUE=DATE:20220617
DTEND;VALUE=DATE:20220620
DTSTAMP:20260420T022559
CREATED:20220316T145938Z
LAST-MODIFIED:20220316T145938Z
UID:32560-1655424000-1655683199@dragoons.ca
SUMMARY:RCD Association Reunion – RENDEZVOUS 22 (RV22)
DESCRIPTION:
URL:https://dragoons.ca/calendar/rcd-association-reunion-rendezvous-22-rv22/
END:VEVENT
BEGIN:VEVENT
DTSTART;TZID=America/Toronto:20220414T100000
DTEND;TZID=America/Toronto:20220414T103000
DTSTAMP:20260420T022559
CREATED:20220326T002045Z
LAST-MODIFIED:20220326T002045Z
UID:32671-1649930400-1649932200@dragoons.ca
SUMMARY:Leeuwarden
DESCRIPTION:Time TBA
URL:https://dragoons.ca/calendar/leeuwarden/
END:VEVENT
BEGIN:VEVENT
DTSTART;TZID=America/Toronto:20220402T000000
DTEND;TZID=America/Toronto:20220402T000000
DTSTAMP:20260420T022559
CREATED:20220326T001918Z
LAST-MODIFIED:20220326T001918Z
UID:32669-1648857600-1648857600@dragoons.ca
SUMMARY:RCD Family Day
DESCRIPTION:Time TBA
URL:https://dragoons.ca/calendar/rcd-family-day/
END:VEVENT
END:VCALENDAR