BEGIN:VCALENDAR
VERSION:2.0
PRODID:-//Dragoons Regiment - ECPv6.15.20//NONSGML v1.0//EN
CALSCALE:GREGORIAN
METHOD:PUBLISH
X-ORIGINAL-URL:https://dragoons.ca
X-WR-CALDESC:Events for Dragoons Regiment
REFRESH-INTERVAL;VALUE=DURATION:PT1H
X-Robots-Tag:noindex
X-PUBLISHED-TTL:PT1H
BEGIN:VTIMEZONE
TZID:America/Toronto
BEGIN:DAYLIGHT
TZOFFSETFROM:-0500
TZOFFSETTO:-0400
TZNAME:EDT
DTSTART:20210314T070000
END:DAYLIGHT
BEGIN:STANDARD
TZOFFSETFROM:-0400
TZOFFSETTO:-0500
TZNAME:EST
DTSTART:20211107T060000
END:STANDARD
BEGIN:DAYLIGHT
TZOFFSETFROM:-0500
TZOFFSETTO:-0400
TZNAME:EDT
DTSTART:20220313T070000
END:DAYLIGHT
BEGIN:STANDARD
TZOFFSETFROM:-0400
TZOFFSETTO:-0500
TZNAME:EST
DTSTART:20221106T060000
END:STANDARD
BEGIN:DAYLIGHT
TZOFFSETFROM:-0500
TZOFFSETTO:-0400
TZNAME:EDT
DTSTART:20230312T070000
END:DAYLIGHT
BEGIN:STANDARD
TZOFFSETFROM:-0400
TZOFFSETTO:-0500
TZNAME:EST
DTSTART:20231105T060000
END:STANDARD
END:VTIMEZONE
BEGIN:VEVENT
DTSTART;TZID=America/Toronto:20221203T140000
DTEND;TZID=America/Toronto:20221203T170000
DTSTAMP:20260424T183306
CREATED:20221125T193401Z
LAST-MODIFIED:20221125T193401Z
UID:33368-1670076000-1670086800@dragoons.ca
SUMMARY:Ken Pichie Retirement
DESCRIPTION:We are excited to celebrate the retirement of Jim Pichie and hope the friends and comrades will extend a note!! \nThe Regimental Family wishes him the greatest joy and happpiness on this next stage of his life – a great Dragoon
URL:https://dragoons.ca/calendar/ken-pichie-retirement/
END:VEVENT
BEGIN:VEVENT
DTSTART;TZID=America/Toronto:20221207T180000
DTEND;TZID=America/Toronto:20221207T233000
DTSTAMP:20260424T183306
CREATED:20221117T114331Z
LAST-MODIFIED:20221117T114331Z
UID:33340-1670436000-1670455800@dragoons.ca
SUMMARY:RSM's Sr. NCO Mixed Dining In
DESCRIPTION:
URL:https://dragoons.ca/calendar/rsms-sr-nco-mixed-dining-in/
END:VEVENT
BEGIN:VEVENT
DTSTART;VALUE=DATE:20221209
DTEND;VALUE=DATE:20221210
DTSTAMP:20260424T183306
CREATED:20220916T221412Z
LAST-MODIFIED:20220916T221412Z
UID:33241-1670544000-1670630399@dragoons.ca
SUMMARY:Presentation of The Royal Canadian Dragoons' Fifth Guidon
DESCRIPTION:The Regiment is proud to confirm the presentation of its fifth Guidon on 9 December 2022 at Garrison Petawawa by Her Excellency\, The Governor-General of Canada. \nThe current intent is to have a parade and reception in unit lines of The Regiment\, details will be confirmed as The Regiment coordinates with the GG’s staff.
URL:https://dragoons.ca/calendar/presentation-of-the-royal-canadian-dragoons-fifth-guidon/
END:VEVENT
BEGIN:VEVENT
DTSTART;TZID=America/Toronto:20221209T110000
DTEND;TZID=America/Toronto:20221209T140000
DTSTAMP:20260424T183306
CREATED:20221117T114638Z
LAST-MODIFIED:20221117T114638Z
UID:33344-1670583600-1670594400@dragoons.ca
SUMMARY:Change of Guidon Ceremony
DESCRIPTION:
URL:https://dragoons.ca/calendar/change-of-guidon-ceremony/
END:VEVENT
BEGIN:VEVENT
DTSTART;TZID=America/Toronto:20221209T190000
DTEND;TZID=America/Toronto:20221210T010000
DTSTAMP:20260424T183306
CREATED:20221122T140415Z
LAST-MODIFIED:20221122T140415Z
UID:33359-1670612400-1670634000@dragoons.ca
SUMMARY:RCD All-Ranks Gala
DESCRIPTION:To celebrate the presentation of the new Guidon\, there will be an all-ranks gala held in the RCD Unit building\, Garrison Peteawawa on the evening of 9 Dec. \nThe Regiment has graciously opened this event to the Regimental Family for those interested.  Visit our news and event page for all the details.
URL:https://dragoons.ca/calendar/rcd-all-ranks-gala/
END:VEVENT
BEGIN:VEVENT
DTSTART;TZID=America/Toronto:20221217T100000
DTEND;TZID=America/Toronto:20221217T140000
DTSTAMP:20260424T183306
CREATED:20221122T141355Z
LAST-MODIFIED:20221122T141355Z
UID:33361-1671271200-1671285600@dragoons.ca
SUMMARY:RCD Birthday - NCR Chapter Breakfast
DESCRIPTION:The NCR Chapter of the Association will be holding a Dragoon Birthday Breakfast on SAT\, 17 Dec \nPlease go to the site to sign up early!!
URL:https://dragoons.ca/calendar/rcd-birthday-ncr-chapter-breakfast/
END:VEVENT
BEGIN:VEVENT
DTSTART;TZID=America/Toronto:20221218T110000
DTEND;TZID=America/Toronto:20221218T140000
DTSTAMP:20260424T183306
CREATED:20221122T134415Z
LAST-MODIFIED:20221122T134415Z
UID:33354-1671361200-1671372000@dragoons.ca
SUMMARY:RCR & RCD Birthday - SW Ontario
DESCRIPTION:We are happy to post that a birthday celebration will be held in Windsor\, SUNDAY\, 18 DECEMBER 2022 FROM 11:00-14:00 \nVisit the site for more information and to sign up!!
URL:https://dragoons.ca/calendar/rcr-rcd-birthday-sw-ontario/
END:VEVENT
BEGIN:VEVENT
DTSTART;VALUE=DATE:20221221
DTEND;VALUE=DATE:20221222
DTSTAMP:20260424T183306
CREATED:20221122T135320Z
LAST-MODIFIED:20221122T135320Z
UID:33357-1671580800-1671667199@dragoons.ca
SUMMARY:RCD Birthday - Homestation
DESCRIPTION:The Regiment will be holding a birthday celebration on 21Dec for the Regiment. \nIt will be held in the new unit building\, exact time and room location will be announced soon! \nFeel free to drop by and raise a glass to your Regiment!!
URL:https://dragoons.ca/calendar/rcd-birthday-homestation/
END:VEVENT
BEGIN:VEVENT
DTSTART;TZID=America/Toronto:20221221T140000
DTEND;TZID=America/Toronto:20221221T170000
DTSTAMP:20260424T183306
CREATED:20221206T173611Z
LAST-MODIFIED:20221206T173611Z
UID:33432-1671631200-1671642000@dragoons.ca
SUMMARY:RCD Birthday Celebration - NL
DESCRIPTION:The NL Chapter of the RCD Association\, together with the RCR association\, is happy to celebrate our birthday with a combined function on 21 Dec starting at 1400. \nFell free to come celebrate with us
URL:https://dragoons.ca/calendar/rcd-birthday-celebration-21-dec-at-1400/
END:VEVENT
END:VCALENDAR