BEGIN:VCALENDAR
VERSION:2.0
PRODID:-//Dragoons Regiment - ECPv6.15.20//NONSGML v1.0//EN
CALSCALE:GREGORIAN
METHOD:PUBLISH
X-WR-CALNAME:Dragoons Regiment
X-ORIGINAL-URL:https://dragoons.ca
X-WR-CALDESC:Events for Dragoons Regiment
REFRESH-INTERVAL;VALUE=DURATION:PT1H
X-Robots-Tag:noindex
X-PUBLISHED-TTL:PT1H
BEGIN:VTIMEZONE
TZID:America/Toronto
BEGIN:DAYLIGHT
TZOFFSETFROM:-0500
TZOFFSETTO:-0400
TZNAME:EDT
DTSTART:20220313T070000
END:DAYLIGHT
BEGIN:STANDARD
TZOFFSETFROM:-0400
TZOFFSETTO:-0500
TZNAME:EST
DTSTART:20221106T060000
END:STANDARD
BEGIN:DAYLIGHT
TZOFFSETFROM:-0500
TZOFFSETTO:-0400
TZNAME:EDT
DTSTART:20230312T070000
END:DAYLIGHT
BEGIN:STANDARD
TZOFFSETFROM:-0400
TZOFFSETTO:-0500
TZNAME:EST
DTSTART:20231105T060000
END:STANDARD
BEGIN:DAYLIGHT
TZOFFSETFROM:-0500
TZOFFSETTO:-0400
TZNAME:EDT
DTSTART:20240310T070000
END:DAYLIGHT
BEGIN:STANDARD
TZOFFSETFROM:-0400
TZOFFSETTO:-0500
TZNAME:EST
DTSTART:20241103T060000
END:STANDARD
END:VTIMEZONE
BEGIN:VEVENT
DTSTART;TZID=America/Toronto:20230520T103000
DTEND;TZID=America/Toronto:20230520T170000
DTSTAMP:20260423T234436
CREATED:20230425T142304Z
LAST-MODIFIED:20230425T142304Z
UID:33982-1684578600-1684602000@dragoons.ca
SUMMARY:Graveside Service for MWO (retd) Carl Cox
DESCRIPTION:Pam Cox and family would like to inform the regimental family that there will be a graveside service for MWO (retd) Carl Cox\, 1030 hrs Saturday 20 May 2023 at the National Military Cemetery of the Canadian Forces\, Beechwood\, Ottawa\, ON. \nThere will be a post service reception at a nearby Royal Canadian Legion (TBC). For out of towners who may be looking for accommodations\, the Courtyard Marriott and/or the Hampton Inn off of Coventry and the Vanier Parkway are near by on the same side of the canal as the cemetery and Legion. \nThere will be a post service reception is confirmed at a nearby Royal Canadian Legion #462\, 294 Cyr Ave.
URL:https://dragoons.ca/calendar/graveside-service-for-mwo-retd-carl-cox/
END:VEVENT
BEGIN:VEVENT
DTSTART;TZID=America/Toronto:20230520T130000
DTEND;TZID=America/Toronto:20230520T170000
DTSTAMP:20260423T234436
CREATED:20230505T162005Z
LAST-MODIFIED:20230505T162005Z
UID:34055-1684587600-1684602000@dragoons.ca
SUMMARY:Internment of Ashes - William and Gloria Van Leeuwen
DESCRIPTION:
URL:https://dragoons.ca/calendar/internment-of-ashes-william-and-gloria-van-leeuwen/
END:VEVENT
BEGIN:VEVENT
DTSTART;TZID=America/Toronto:20230526T120000
DTEND;TZID=America/Toronto:20230526T170000
DTSTAMP:20260423T234436
CREATED:20230425T144528Z
LAST-MODIFIED:20230425T144528Z
UID:33992-1685102400-1685120400@dragoons.ca
SUMMARY:MWO Rick Mercer DWD
DESCRIPTION:
URL:https://dragoons.ca/calendar/mwo-rick-mercer-dwd/
END:VEVENT
END:VCALENDAR