BEGIN:VCALENDAR
VERSION:2.0
PRODID:-//Dragoons Regiment - ECPv6.15.20//NONSGML v1.0//EN
CALSCALE:GREGORIAN
METHOD:PUBLISH
X-WR-CALNAME:Dragoons Regiment
X-ORIGINAL-URL:https://dragoons.ca
X-WR-CALDESC:Events for Dragoons Regiment
REFRESH-INTERVAL;VALUE=DURATION:PT1H
X-Robots-Tag:noindex
X-PUBLISHED-TTL:PT1H
BEGIN:VTIMEZONE
TZID:America/Toronto
BEGIN:DAYLIGHT
TZOFFSETFROM:-0500
TZOFFSETTO:-0400
TZNAME:EDT
DTSTART:20220313T070000
END:DAYLIGHT
BEGIN:STANDARD
TZOFFSETFROM:-0400
TZOFFSETTO:-0500
TZNAME:EST
DTSTART:20221106T060000
END:STANDARD
BEGIN:DAYLIGHT
TZOFFSETFROM:-0500
TZOFFSETTO:-0400
TZNAME:EDT
DTSTART:20230312T070000
END:DAYLIGHT
BEGIN:STANDARD
TZOFFSETFROM:-0400
TZOFFSETTO:-0500
TZNAME:EST
DTSTART:20231105T060000
END:STANDARD
BEGIN:DAYLIGHT
TZOFFSETFROM:-0500
TZOFFSETTO:-0400
TZNAME:EDT
DTSTART:20240310T070000
END:DAYLIGHT
BEGIN:STANDARD
TZOFFSETFROM:-0400
TZOFFSETTO:-0500
TZNAME:EST
DTSTART:20241103T060000
END:STANDARD
END:VTIMEZONE
BEGIN:VEVENT
DTSTART;TZID=America/Toronto:20230603T183000
DTEND;TZID=America/Toronto:20230603T233000
DTSTAMP:20260423T203137
CREATED:20230216T220042Z
LAST-MODIFIED:20230216T220042Z
UID:33841-1685817000-1685835000@dragoons.ca
SUMMARY:Corps Assn Mess Dinner
DESCRIPTION:The Corps is happy to announce that they will hold an officer’s mess dinner as part of the Corps Conference in Ottawa. \n 
URL:https://dragoons.ca/calendar/blackhat-mess-dinner/
END:VEVENT
BEGIN:VEVENT
DTSTART;TZID=America/Toronto:20230624T160000
DTEND;TZID=America/Toronto:20230624T210000
DTSTAMP:20260423T203137
CREATED:20230425T141212Z
LAST-MODIFIED:20230425T141212Z
UID:33975-1687622400-1687640400@dragoons.ca
SUMMARY:RCACA Black Hat BBQ
DESCRIPTION:On behalf of the RCACA we would like to invite you to a special Black Hat BBQ hosted at The Ontario Regiment RCAC Museum in Oshawa\, ON. \nThis is a casual event for members of the Corps\, serving and retired\, and those in the RCAC family to join together for fellowship\, a meal and a time together in one of Canada’s finest RCAC Museums. \nThe Museum is open to the public from 12:00 – 16:00 (feel free to come early to enjoy the Museum)\, but will close for this exclusive RCACA event. \nPlease purchase tickets for a meal at the link below but admission is FREE for Members of the RCAC and RCACA if you would just like to stop by to say hello. \nDress: Casual \nTimings: Event Start – 16:00\, Dinner Served – 17:30\, Bar closed 20:00\, Event ends – 21:00 \nBAR IS CASH ONLY and FOOD TICKETS SALES END 19 JUNE \n 
URL:https://dragoons.ca/calendar/rcac-black-hat-bbq/
END:VEVENT
BEGIN:VEVENT
DTSTART;TZID=America/Toronto:20230625T110000
DTEND;TZID=America/Toronto:20230625T170000
DTSTAMP:20260423T203137
CREATED:20230220T215851Z
LAST-MODIFIED:20230220T215851Z
UID:33854-1687690800-1687712400@dragoons.ca
SUMMARY:Celebration of life for LCol(ret'd) John Beswick
DESCRIPTION:Details of the funeral and celebration of life for John Beswick. \nCeremony starts at 11am on Sunday 25 Jun at the Elmwood Cemetery\, 165 Dufferin Rd\, Perth ON  K7H 3B3\, \nPictures of the celebration have been posted\, click here \n 
URL:https://dragoons.ca/calendar/celebration-of-life-for-lcolretd-john-beswick/
END:VEVENT
END:VCALENDAR