BEGIN:VCALENDAR
VERSION:2.0
PRODID:-//Dragoons Regiment - ECPv6.15.20//NONSGML v1.0//EN
CALSCALE:GREGORIAN
METHOD:PUBLISH
X-ORIGINAL-URL:https://dragoons.ca
X-WR-CALDESC:Events for Dragoons Regiment
REFRESH-INTERVAL;VALUE=DURATION:PT1H
X-Robots-Tag:noindex
X-PUBLISHED-TTL:PT1H
BEGIN:VTIMEZONE
TZID:America/Toronto
BEGIN:DAYLIGHT
TZOFFSETFROM:-0500
TZOFFSETTO:-0400
TZNAME:EDT
DTSTART:20220313T070000
END:DAYLIGHT
BEGIN:STANDARD
TZOFFSETFROM:-0400
TZOFFSETTO:-0500
TZNAME:EST
DTSTART:20221106T060000
END:STANDARD
BEGIN:DAYLIGHT
TZOFFSETFROM:-0500
TZOFFSETTO:-0400
TZNAME:EDT
DTSTART:20230312T070000
END:DAYLIGHT
BEGIN:STANDARD
TZOFFSETFROM:-0400
TZOFFSETTO:-0500
TZNAME:EST
DTSTART:20231105T060000
END:STANDARD
BEGIN:DAYLIGHT
TZOFFSETFROM:-0500
TZOFFSETTO:-0400
TZNAME:EDT
DTSTART:20240310T070000
END:DAYLIGHT
BEGIN:STANDARD
TZOFFSETFROM:-0400
TZOFFSETTO:-0500
TZNAME:EST
DTSTART:20241103T060000
END:STANDARD
END:VTIMEZONE
BEGIN:VEVENT
DTSTART;TZID=America/Toronto:20230915T080000
DTEND;TZID=America/Toronto:20230915T170000
DTSTAMP:20260423T151659
CREATED:20230223T174150Z
LAST-MODIFIED:20230223T174150Z
UID:33864-1694764800-1694797200@dragoons.ca
SUMMARY:Op CONNECTION
DESCRIPTION:The Regimental Family is pleased to announce that we will be running Op CONNECTION on 15 September in Garrison Petawawa. \nOp CONNECTION is designed to enhance awareness of the Regiment and Regimental Family to Canadians as part of our awareness program\, with the additional benefit of potentially expanding our Friends of The Regiment group\, who so generously support the Guild. \nThis year’s full day event will occur during a unit field exercise to provide the maximum exposure to the soldiers\, equipment and pride that we experience every day. \nWhile we make the event rather small to provide a more immersive experience\, if you are interested in helping us with planning or supporting execution\, please contact the organizer.
URL:https://dragoons.ca/calendar/op-connection/
END:VEVENT
BEGIN:VEVENT
DTSTART;TZID=America/Toronto:20230916T080000
DTEND;TZID=America/Toronto:20230916T170000
DTSTAMP:20260423T151659
CREATED:20230821T224418Z
LAST-MODIFIED:20230821T224418Z
UID:34426-1694851200-1694883600@dragoons.ca
SUMMARY:RBC Charity golf Tournament & Fundraiser
DESCRIPTION:RBC colleagues in the Ottawa Valley are hosting a golf tournament & fundraiser in support of the RBC Race for the Kids on Saturday afternoon\, September 16th at Petawawa Golf Club. (9 holes\, dinner and prizes – $75 per golfer or $35 for dinner only).  See attached flyer for details and how to register.
URL:https://dragoons.ca/calendar/rbc-charity-golf-tournament-fundraiser/
END:VEVENT
BEGIN:VEVENT
DTSTART;VALUE=DATE:20230924
DTEND;VALUE=DATE:20230925
DTSTAMP:20260423T151659
CREATED:20230821T225243Z
LAST-MODIFIED:20230821T225243Z
UID:34430-1695513600-1695599999@dragoons.ca
SUMMARY:RBC Race for the Kids
DESCRIPTION:The Regimental Family is proud to announce this event in sppurt of kids mental health and RBC\, a special supporter of the Guild. \nSince 2017\, RBC has raised $2.75 million through the annual RBC Race for the Kids at Wesley Clover Parks in Kanata. All to support youth mental health programs at CHEO and through 1Call1Click. We need to continue to ensure youth who are struggling with their mental health get the help they need. \nRBC Race for the Kids benefits youth mental health programs such at CHEO and through www.1call1click.ca – a network that brings together 20+ child and youth mental health and addictions organizations from throughout Eastern Ontario – to help youth access the right care at the right time. \nThere are three options options to support the race: \n\nRegister yourself and family for the race\nMake a donation\nCreate your own workplace team by contacting Kristi Guénette at CHEO Foundation.\n\nTimes will be posted as we get closer
URL:https://dragoons.ca/calendar/34430/
END:VEVENT
END:VCALENDAR