BEGIN:VCALENDAR
VERSION:2.0
PRODID:-//Dragoons Regiment - ECPv6.15.20//NONSGML v1.0//EN
CALSCALE:GREGORIAN
METHOD:PUBLISH
X-WR-CALNAME:Dragoons Regiment
X-ORIGINAL-URL:https://dragoons.ca
X-WR-CALDESC:Events for Dragoons Regiment
REFRESH-INTERVAL;VALUE=DURATION:PT1H
X-Robots-Tag:noindex
X-PUBLISHED-TTL:PT1H
BEGIN:VTIMEZONE
TZID:America/Toronto
BEGIN:DAYLIGHT
TZOFFSETFROM:-0500
TZOFFSETTO:-0400
TZNAME:EDT
DTSTART:20220313T070000
END:DAYLIGHT
BEGIN:STANDARD
TZOFFSETFROM:-0400
TZOFFSETTO:-0500
TZNAME:EST
DTSTART:20221106T060000
END:STANDARD
BEGIN:DAYLIGHT
TZOFFSETFROM:-0500
TZOFFSETTO:-0400
TZNAME:EDT
DTSTART:20230312T070000
END:DAYLIGHT
BEGIN:STANDARD
TZOFFSETFROM:-0400
TZOFFSETTO:-0500
TZNAME:EST
DTSTART:20231105T060000
END:STANDARD
BEGIN:DAYLIGHT
TZOFFSETFROM:-0500
TZOFFSETTO:-0400
TZNAME:EDT
DTSTART:20240310T070000
END:DAYLIGHT
BEGIN:STANDARD
TZOFFSETFROM:-0400
TZOFFSETTO:-0500
TZNAME:EST
DTSTART:20241103T060000
END:STANDARD
END:VTIMEZONE
BEGIN:VEVENT
DTSTART;TZID=America/Toronto:20231025T130000
DTEND;TZID=America/Toronto:20231025T160000
DTSTAMP:20260423T151418
CREATED:20231025T170714Z
LAST-MODIFIED:20231025T170714Z
UID:34622-1698238800-1698249600@dragoons.ca
SUMMARY:Kingston Chapter celebrates the 123rd anniversary of the Action at Leliefontein!
DESCRIPTION:Kingston Chapter:  Leliefontein Social 13:00-16:00 25 Oct at the ANAF Gore Road Kingston ON\, contact Denis Levesque
URL:https://dragoons.ca/calendar/kingston-chapter-celebrates-the-123rd-anniversary-of-the-action-at-leliefontein/
END:VEVENT
BEGIN:VEVENT
DTSTART;TZID=America/Toronto:20231026T170000
DTEND;TZID=America/Toronto:20231026T190000
DTSTAMP:20260423T151418
CREATED:20230919T140320Z
LAST-MODIFIED:20230919T140320Z
UID:34537-1698339600-1698346800@dragoons.ca
SUMMARY:Save the Date - Guild Fundraiser with General (Retired) Rick Hillier
DESCRIPTION:Dear Friends of the Guild of the Royal Canadian Dragoons\, \nPlease join us for an intimate cinq-a-sept with General (retired) Rick Hillier – former Chief of Defence Staff\, and a proud Dragoon! This will be a great opportunity to meet soldiers of the Royal Canadian Dragoons’ family and learn about leadership perspectives and today’s current security envrionment from one of Canada’s most experienced and dynamic leaders! \nWe look forward to welcoming you. Proceeds from the event will go to The Guild of The Royal Canadian Dragoons\, a volunteer-run charitable organization that supports the Dragoon Regimental Family. \nInvitation with additional details to follow. \n 
URL:https://dragoons.ca/calendar/save-the-date-guild-fundraiser-with-general-retired-rick-hillier/
CATEGORIES:Fundraising
END:VEVENT
END:VCALENDAR